BEGIN:VCALENDAR
VERSION:2.0
PRODID:-//Kindergarten - miteinander  wachsen - ECPv6.15.18//NONSGML v1.0//EN
CALSCALE:GREGORIAN
METHOD:PUBLISH
X-WR-CALNAME:Kindergarten - miteinander  wachsen
X-ORIGINAL-URL:https://www.kiga-miteinanderwachsen.at
X-WR-CALDESC:Veranstaltungen für Kindergarten - miteinander  wachsen
REFRESH-INTERVAL;VALUE=DURATION:PT1H
X-Robots-Tag:noindex
X-PUBLISHED-TTL:PT1H
BEGIN:VTIMEZONE
TZID:Europe/Berlin
BEGIN:DAYLIGHT
TZOFFSETFROM:+0100
TZOFFSETTO:+0200
TZNAME:CEST
DTSTART:20240331T010000
END:DAYLIGHT
BEGIN:STANDARD
TZOFFSETFROM:+0200
TZOFFSETTO:+0100
TZNAME:CET
DTSTART:20241027T010000
END:STANDARD
BEGIN:DAYLIGHT
TZOFFSETFROM:+0100
TZOFFSETTO:+0200
TZNAME:CEST
DTSTART:20250330T010000
END:DAYLIGHT
BEGIN:STANDARD
TZOFFSETFROM:+0200
TZOFFSETTO:+0100
TZNAME:CET
DTSTART:20251026T010000
END:STANDARD
BEGIN:DAYLIGHT
TZOFFSETFROM:+0100
TZOFFSETTO:+0200
TZNAME:CEST
DTSTART:20260329T010000
END:DAYLIGHT
BEGIN:STANDARD
TZOFFSETFROM:+0200
TZOFFSETTO:+0100
TZNAME:CET
DTSTART:20261025T010000
END:STANDARD
BEGIN:DAYLIGHT
TZOFFSETFROM:+0100
TZOFFSETTO:+0200
TZNAME:CEST
DTSTART:20270328T010000
END:DAYLIGHT
BEGIN:STANDARD
TZOFFSETFROM:+0200
TZOFFSETTO:+0100
TZNAME:CET
DTSTART:20271031T010000
END:STANDARD
END:VTIMEZONE
BEGIN:VEVENT
DTSTART;TZID=Europe/Berlin:20260406T080000
DTEND;TZID=Europe/Berlin:20260406T170000
DTSTAMP:20260420T135906
CREATED:20251106T094855Z
LAST-MODIFIED:20251106T094855Z
UID:828-1775462400-1775494800@www.kiga-miteinanderwachsen.at
SUMMARY:Ostermontag\, Kindergarten GESCHLOSSEN
DESCRIPTION:
URL:https://www.kiga-miteinanderwachsen.at/termin/ostermontag-kindergarten-geschlossen-2/
ATTACH;FMTTYPE=image/jpeg:https://www.kiga-miteinanderwachsen.at/wp-content/uploads/2025/03/closed.jpg
END:VEVENT
BEGIN:VEVENT
DTSTART;TZID=Europe/Berlin:20260403T080000
DTEND;TZID=Europe/Berlin:20260403T170000
DTSTAMP:20260420T135906
CREATED:20251106T094755Z
LAST-MODIFIED:20251106T094755Z
UID:825-1775203200-1775235600@www.kiga-miteinanderwachsen.at
SUMMARY:Osterferien\, Kindergarten OFFEN
DESCRIPTION:
URL:https://www.kiga-miteinanderwachsen.at/termin/osterferien-kindergarten-offen-2/
ATTACH;FMTTYPE=image/jpeg:https://www.kiga-miteinanderwachsen.at/wp-content/uploads/2025/11/osterferien2026.jpg
END:VEVENT
BEGIN:VEVENT
DTSTART;TZID=Europe/Berlin:20260327T080000
DTEND;TZID=Europe/Berlin:20260327T170000
DTSTAMP:20260420T135906
CREATED:20251106T094539Z
LAST-MODIFIED:20251106T094539Z
UID:823-1774598400-1774630800@www.kiga-miteinanderwachsen.at
SUMMARY:Osterfest (ohne Eltern)
DESCRIPTION:
URL:https://www.kiga-miteinanderwachsen.at/termin/osterfest-ohne-eltern-2/
ATTACH;FMTTYPE=image/jpeg:https://www.kiga-miteinanderwachsen.at/wp-content/uploads/2025/03/osterfest.jpg
END:VEVENT
BEGIN:VEVENT
DTSTART;TZID=Europe/Berlin:20260320T080000
DTEND;TZID=Europe/Berlin:20260320T170000
DTSTAMP:20260420T135906
CREATED:20251106T094429Z
LAST-MODIFIED:20251106T094429Z
UID:820-1773993600-1774026000@www.kiga-miteinanderwachsen.at
SUMMARY:Frühlingserwachen (ohne Eltern)
DESCRIPTION:
URL:https://www.kiga-miteinanderwachsen.at/termin/fruehlingserwachen-ohne-eltern-2/
ATTACH;FMTTYPE=image/jpeg:https://www.kiga-miteinanderwachsen.at/wp-content/uploads/2025/03/fruehlingserwachen.jpg
END:VEVENT
BEGIN:VEVENT
DTSTART;TZID=Europe/Berlin:20260217T080000
DTEND;TZID=Europe/Berlin:20260217T170000
DTSTAMP:20260420T135906
CREATED:20251106T094335Z
LAST-MODIFIED:20251106T094335Z
UID:817-1771315200-1771347600@www.kiga-miteinanderwachsen.at
SUMMARY:Faschingsfest - OHNE ELTERN
DESCRIPTION:
URL:https://www.kiga-miteinanderwachsen.at/termin/faschingsfest-ohne-eltern/
ATTACH;FMTTYPE=image/jpeg:https://www.kiga-miteinanderwachsen.at/wp-content/uploads/2025/11/fasching2026.jpg
END:VEVENT
BEGIN:VEVENT
DTSTART;TZID=Europe/Berlin:20260207T080000
DTEND;TZID=Europe/Berlin:20260207T170000
DTSTAMP:20260420T135906
CREATED:20251106T102234Z
LAST-MODIFIED:20251106T103429Z
UID:874-1770451200-1770483600@www.kiga-miteinanderwachsen.at
SUMMARY:Kasperlbühne „Kasperl A. Schubidu das Känguru" - Bitte zuhause Frühstücken
DESCRIPTION:Bitte zuhause Frühstücken
URL:https://www.kiga-miteinanderwachsen.at/termin/kasperlbuehne-kasperl-a-schubidu-das-kaenguru-bitte-zuhause-fruehstuecken/
ATTACH;FMTTYPE=image/jpeg:https://www.kiga-miteinanderwachsen.at/wp-content/uploads/2025/11/kasperl2026.jpg
END:VEVENT
BEGIN:VEVENT
DTSTART;TZID=Europe/Berlin:20260202T080000
DTEND;TZID=Europe/Berlin:20260206T170000
DTSTAMP:20260420T135906
CREATED:20251106T094046Z
LAST-MODIFIED:20251106T094046Z
UID:814-1770019200-1770397200@www.kiga-miteinanderwachsen.at
SUMMARY:Semesterferien\, Kindergarten OFFEN
DESCRIPTION:
URL:https://www.kiga-miteinanderwachsen.at/termin/semesterferien-kindergarten-offen/
ATTACH;FMTTYPE=image/jpeg:https://www.kiga-miteinanderwachsen.at/wp-content/uploads/2025/11/semesterferien2026.jpg
END:VEVENT
BEGIN:VEVENT
DTSTART;TZID=Europe/Berlin:20260122T080000
DTEND;TZID=Europe/Berlin:20260122T170000
DTSTAMP:20260420T135906
CREATED:20251106T102042Z
LAST-MODIFIED:20251106T102042Z
UID:871-1769068800-1769101200@www.kiga-miteinanderwachsen.at
SUMMARY:Theater Harlekin „Unser kunterbunter 200" - Bitte zuhause Frühstücken
DESCRIPTION:Bitte zuhause Frühstücken
URL:https://www.kiga-miteinanderwachsen.at/termin/theater-harlekin-unser-kunterbunter-200-bitte-zuhause-fruehstuecken/
ATTACH;FMTTYPE=image/jpeg:https://www.kiga-miteinanderwachsen.at/wp-content/uploads/2025/11/theater2026.jpg
END:VEVENT
BEGIN:VEVENT
DTSTART;TZID=Europe/Berlin:20251222T080000
DTEND;TZID=Europe/Berlin:20260106T170000
DTSTAMP:20260420T135906
CREATED:20251106T093805Z
LAST-MODIFIED:20251106T093805Z
UID:811-1766390400-1767718800@www.kiga-miteinanderwachsen.at
SUMMARY:Weihnachtsferien\, Kindergarten GESCHLOSSEN
DESCRIPTION:
URL:https://www.kiga-miteinanderwachsen.at/termin/weihnachtsferien-kindergarten-geschlossen/
ATTACH;FMTTYPE=image/jpeg:https://www.kiga-miteinanderwachsen.at/wp-content/uploads/2025/11/weihnachten2025.jpg
END:VEVENT
BEGIN:VEVENT
DTSTART;TZID=Europe/Berlin:20251212T080000
DTEND;TZID=Europe/Berlin:20251212T170000
DTSTAMP:20260420T135906
CREATED:20251106T093435Z
LAST-MODIFIED:20251113T065121Z
UID:808-1765526400-1765558800@www.kiga-miteinanderwachsen.at
SUMMARY:Weihnachtswerkstatt (mit Eltern)
DESCRIPTION:
URL:https://www.kiga-miteinanderwachsen.at/termin/weihnachtswerkstatt-mit-eltern/
ATTACH;FMTTYPE=image/jpeg:https://www.kiga-miteinanderwachsen.at/wp-content/uploads/2025/11/weihnachtswerkstatt2025.jpg
END:VEVENT
BEGIN:VEVENT
DTSTART;TZID=Europe/Berlin:20251208T080000
DTEND;TZID=Europe/Berlin:20251208T170000
DTSTAMP:20260420T135906
CREATED:20251106T093237Z
LAST-MODIFIED:20251106T093237Z
UID:806-1765180800-1765213200@www.kiga-miteinanderwachsen.at
SUMMARY:Maria Empfängnis\, Kindergarten GESCHLOSSEN
DESCRIPTION:
URL:https://www.kiga-miteinanderwachsen.at/termin/maria-empfaengnis-kindergarten-geschlossen/
ATTACH;FMTTYPE=image/jpeg:https://www.kiga-miteinanderwachsen.at/wp-content/uploads/2025/03/closed.jpg
END:VEVENT
BEGIN:VEVENT
DTSTART;TZID=Europe/Berlin:20251205T080000
DTEND;TZID=Europe/Berlin:20251205T170000
DTSTAMP:20260420T135906
CREATED:20251106T093053Z
LAST-MODIFIED:20251106T093141Z
UID:800-1764921600-1764954000@www.kiga-miteinanderwachsen.at
SUMMARY:Nikolausfest im Kindergarten (ohne Eltern)
DESCRIPTION:
URL:https://www.kiga-miteinanderwachsen.at/termin/nikolausfest-im-kindergarten-ohne-eltern/
ATTACH;FMTTYPE=image/jpeg:https://www.kiga-miteinanderwachsen.at/wp-content/uploads/2025/11/nikolausfest2025.jpg
END:VEVENT
BEGIN:VEVENT
DTSTART;TZID=Europe/Berlin:20251202T080000
DTEND;TZID=Europe/Berlin:20251202T170000
DTSTAMP:20260420T135906
CREATED:20251106T101839Z
LAST-MODIFIED:20251113T065048Z
UID:868-1764662400-1764694800@www.kiga-miteinanderwachsen.at
SUMMARY:Theater „Sterntaler" - Bitte zuhause Frühstücken
DESCRIPTION:Bitte zuhause Frühstücken
URL:https://www.kiga-miteinanderwachsen.at/termin/theater-sterntaler-bitte-zuhause-fruehstuecken/
ATTACH;FMTTYPE=image/jpeg:https://www.kiga-miteinanderwachsen.at/wp-content/uploads/2025/11/theater2025-2.jpg
END:VEVENT
BEGIN:VEVENT
DTSTART;TZID=Europe/Berlin:20251120T080000
DTEND;TZID=Europe/Berlin:20251120T170000
DTSTAMP:20260420T135906
CREATED:20251106T101639Z
LAST-MODIFIED:20251109T095233Z
UID:865-1763625600-1763658000@www.kiga-miteinanderwachsen.at
SUMMARY:Theater „Regenbogenfisch" - Bitte zuhause Frühstücken
DESCRIPTION:Bitte zuhause Frühstücken
URL:https://www.kiga-miteinanderwachsen.at/termin/theater-regenbogenfisch-bitte-zuhause-fruehstuecken/
ATTACH;FMTTYPE=image/jpeg:https://www.kiga-miteinanderwachsen.at/wp-content/uploads/2025/11/theater2025.jpg
END:VEVENT
BEGIN:VEVENT
DTSTART;TZID=Europe/Berlin:20251111T080000
DTEND;TZID=Europe/Berlin:20251111T170000
DTSTAMP:20260420T135906
CREATED:20251106T092737Z
LAST-MODIFIED:20251106T092818Z
UID:794-1762848000-1762880400@www.kiga-miteinanderwachsen.at
SUMMARY:Laternenfest im Kindergarten (mit Eltern)
DESCRIPTION:
URL:https://www.kiga-miteinanderwachsen.at/termin/laternenfest-im-kindergarten-mit-eltern/
ATTACH;FMTTYPE=image/jpeg:https://www.kiga-miteinanderwachsen.at/wp-content/uploads/2025/11/laternenfest2025.jpg
END:VEVENT
BEGIN:VEVENT
DTSTART;TZID=Europe/Berlin:20251106T080000
DTEND;TZID=Europe/Berlin:20251106T170000
DTSTAMP:20260420T135906
CREATED:20251106T101434Z
LAST-MODIFIED:20251106T101434Z
UID:862-1762416000-1762448400@www.kiga-miteinanderwachsen.at
SUMMARY:ÖAMTC -„Das kleine Straßen 1 x1"	(Bitte zuhause Frühstücken)
DESCRIPTION:Bitte zuhause Frühstücken
URL:https://www.kiga-miteinanderwachsen.at/termin/oeamtc-das-kleine-strassen-1-x1bitte-zuhause-fruehstuecken/
ATTACH;FMTTYPE=image/jpeg:https://www.kiga-miteinanderwachsen.at/wp-content/uploads/2025/11/oeamtc2026.jpg
END:VEVENT
BEGIN:VEVENT
DTSTART;TZID=Europe/Berlin:20250903T170000
DTEND;TZID=Europe/Berlin:20250903T180000
DTSTAMP:20260420T135906
CREATED:20250827T142755Z
LAST-MODIFIED:20250827T142906Z
UID:787-1756918800-1756922400@www.kiga-miteinanderwachsen.at
SUMMARY:Elternabend - Blau & Gelbe Gruppe  (17:00 Uhr)
DESCRIPTION:Liebe Eltern\, liebe BildungspartnerInnen\, \nwir hoffen\, Sie hatten einen schönen Sommer! Auch in diesem Jahr starten wir wieder mit neuen Kindern in die Eingewöhnung. Uns ist es wichtig\, dass sich alle Kinder und Familien wohlfühlen und gut ankommen. Jeder Schritt wird behutsam und in engem Austausch mit den Familien begleitet. \nElternabend:\n3. September 2025 \n\nGrün & Lila: 16:00\nBlau & Gelb: 17:00\n\nBitte beachten: Der Elternabend findet ohne Kinder statt. \nWir freuen uns auf einen informativen Abend und auf ein schönes gemeinsames Kindergartenjahr! \nDas Kindergartenteam
URL:https://www.kiga-miteinanderwachsen.at/termin/elternabend-blau-gelb-1700-uhr/
ATTACH;FMTTYPE=image/jpeg:https://www.kiga-miteinanderwachsen.at/wp-content/uploads/2025/08/elternabend.jpg
END:VEVENT
BEGIN:VEVENT
DTSTART;TZID=Europe/Berlin:20250903T160000
DTEND;TZID=Europe/Berlin:20250903T170000
DTSTAMP:20260420T135906
CREATED:20250827T142613Z
LAST-MODIFIED:20250827T142933Z
UID:782-1756915200-1756918800@www.kiga-miteinanderwachsen.at
SUMMARY:Elternabend - Lila & Grüne Gruppe (16:00 Uhr)
DESCRIPTION:Liebe Eltern\, liebe BildungspartnerInnen\, \nwir hoffen\, Sie hatten einen schönen Sommer! Auch in diesem Jahr starten wir wieder mit neuen Kindern in die Eingewöhnung. Uns ist es wichtig\, dass sich alle Kinder und Familien wohlfühlen und gut ankommen. Jeder Schritt wird behutsam und in engem Austausch mit den Familien begleitet. \nElternabend:\n3. September 2025 \n\nGrün & Lila: 16:00\n\n\nBlau & Gelb: 17:00\n\nBitte beachten: Der Elternabend findet ohne Kinder statt. \nWir freuen uns auf einen informativen Abend und auf ein schönes gemeinsames Kindergartenjahr! \nDas Kindergartenteam
URL:https://www.kiga-miteinanderwachsen.at/termin/elternabend-gruen-lila-1600-uhr/
ATTACH;FMTTYPE=image/jpeg:https://www.kiga-miteinanderwachsen.at/wp-content/uploads/2025/08/elternabend.jpg
END:VEVENT
BEGIN:VEVENT
DTSTART;VALUE=DATE:20250804
DTEND;VALUE=DATE:20250825
DTSTAMP:20260420T135906
CREATED:20250310T104345Z
LAST-MODIFIED:20250310T104345Z
UID:756-1754265600-1756079999@www.kiga-miteinanderwachsen.at
SUMMARY:Sommerurlaub - Kindergarten GESCHLOSSEN
DESCRIPTION:Kindergarten GESCHLOSSEN
URL:https://www.kiga-miteinanderwachsen.at/termin/sommerurlaub-kindergarten-geschlossen/
ATTACH;FMTTYPE=image/jpeg:https://www.kiga-miteinanderwachsen.at/wp-content/uploads/2025/03/sommerferien.jpg
END:VEVENT
BEGIN:VEVENT
DTSTART;VALUE=DATE:20250626
DTEND;VALUE=DATE:20250627
DTSTAMP:20260420T135906
CREATED:20250310T102726Z
LAST-MODIFIED:20250310T102726Z
UID:730-1750896000-1750982399@www.kiga-miteinanderwachsen.at
SUMMARY:Vorschulfest (ohne Eltern)
DESCRIPTION:Unser Vorschulfest – ohne Eltern
URL:https://www.kiga-miteinanderwachsen.at/termin/vorschulfest-ohne-eltern/
ATTACH;FMTTYPE=image/jpeg:https://www.kiga-miteinanderwachsen.at/wp-content/uploads/2025/03/vorschulfest.jpg
END:VEVENT
BEGIN:VEVENT
DTSTART;VALUE=DATE:20250620
DTEND;VALUE=DATE:20250621
DTSTAMP:20260420T135906
CREATED:20250310T104132Z
LAST-MODIFIED:20250310T104132Z
UID:754-1750377600-1750463999@www.kiga-miteinanderwachsen.at
SUMMARY:Fenstertag\, Kindergarten GESCHLOSSEN
DESCRIPTION:Kindergarten GESCHLOSSEN
URL:https://www.kiga-miteinanderwachsen.at/termin/fenstertag-kindergarten-geschlossen-3/
ATTACH;FMTTYPE=image/jpeg:https://www.kiga-miteinanderwachsen.at/wp-content/uploads/2025/03/closed.jpg
END:VEVENT
BEGIN:VEVENT
DTSTART;VALUE=DATE:20250619
DTEND;VALUE=DATE:20250620
DTSTAMP:20260420T135906
CREATED:20250310T104045Z
LAST-MODIFIED:20250310T104045Z
UID:752-1750291200-1750377599@www.kiga-miteinanderwachsen.at
SUMMARY:Fronleichnam\, Kindergarten GESCHLOSSEN
DESCRIPTION:Kindergarten GESCHLOSSEN
URL:https://www.kiga-miteinanderwachsen.at/termin/fronleichnam-kindergarten-geschlossen/
ATTACH;FMTTYPE=image/jpeg:https://www.kiga-miteinanderwachsen.at/wp-content/uploads/2025/03/closed.jpg
END:VEVENT
BEGIN:VEVENT
DTSTART;VALUE=DATE:20250613
DTEND;VALUE=DATE:20250614
DTSTAMP:20260420T135906
CREATED:20250310T102541Z
LAST-MODIFIED:20250310T102541Z
UID:727-1749772800-1749859199@www.kiga-miteinanderwachsen.at
SUMMARY:Sommerfest - mit Eltern
DESCRIPTION:mit Eltern
URL:https://www.kiga-miteinanderwachsen.at/termin/sommerfest-mit-eltern/
ATTACH;FMTTYPE=image/jpeg:https://www.kiga-miteinanderwachsen.at/wp-content/uploads/2025/03/sommerfest.jpg
END:VEVENT
BEGIN:VEVENT
DTSTART;VALUE=DATE:20250609
DTEND;VALUE=DATE:20250610
DTSTAMP:20260420T135906
CREATED:20250310T104001Z
LAST-MODIFIED:20250310T104001Z
UID:750-1749427200-1749513599@www.kiga-miteinanderwachsen.at
SUMMARY:Pfingsten\, Kindergarten GESCHLOSSEN
DESCRIPTION:Kindergarten GESCHLOSSEN
URL:https://www.kiga-miteinanderwachsen.at/termin/pfingsten-kindergarten-geschlossen/
ATTACH;FMTTYPE=image/jpeg:https://www.kiga-miteinanderwachsen.at/wp-content/uploads/2025/03/closed.jpg
END:VEVENT
BEGIN:VEVENT
DTSTART;VALUE=DATE:20250530
DTEND;VALUE=DATE:20250531
DTSTAMP:20260420T135906
CREATED:20250310T103918Z
LAST-MODIFIED:20250310T103918Z
UID:748-1748563200-1748649599@www.kiga-miteinanderwachsen.at
SUMMARY:Fenstertag\, Kindergarten GESCHLOSSEN
DESCRIPTION:Kindergarten GESCHLOSSEN
URL:https://www.kiga-miteinanderwachsen.at/termin/fenstertag-kindergarten-geschlossen-2/
ATTACH;FMTTYPE=image/jpeg:https://www.kiga-miteinanderwachsen.at/wp-content/uploads/2025/03/closed.jpg
END:VEVENT
BEGIN:VEVENT
DTSTART;VALUE=DATE:20250529
DTEND;VALUE=DATE:20250530
DTSTAMP:20260420T135906
CREATED:20250310T103821Z
LAST-MODIFIED:20250310T103821Z
UID:746-1748476800-1748563199@www.kiga-miteinanderwachsen.at
SUMMARY:Christi Himmelfahrt\, Kindergarten GESCHLOSSEN
DESCRIPTION:Kindergarten GESCHLOSSEN
URL:https://www.kiga-miteinanderwachsen.at/termin/christi-himmelfahrt-kindergarten-geschlossen/
ATTACH;FMTTYPE=image/jpeg:https://www.kiga-miteinanderwachsen.at/wp-content/uploads/2025/03/closed.jpg
END:VEVENT
BEGIN:VEVENT
DTSTART;TZID=Europe/Berlin:20250523T130000
DTEND;TZID=Europe/Berlin:20250523T150000
DTSTAMP:20260420T135906
CREATED:20250310T122140Z
LAST-MODIFIED:20250425T080846Z
UID:765-1748005200-1748012400@www.kiga-miteinanderwachsen.at
SUMMARY:Bildungsgrätzl Fest (gelbe & blaue Gruppe)
DESCRIPTION:Bildungsgrätzl Fest von Bildungsgrätzl Stuwer-Viertel-Zwei Am 23. Mai.2025 ist von 13:00 bis 15:00 am Mexikoplatz \nErziehungsberechtigte sind herzlich eingeladen\, die vielfältigen Aktivitäten unserer Partnerinstitutionen im Bildungsgrätzl zu entdecken – mit Mitmachstationen\, Infoständen und einem spannenden Bühnenprogramm! \nVon Kindergarten bis WU\, von der Städtischen Bücherei bis zum Jugendzentrum\, vom Lesetheater bis zur Grätzlpolizei – hier arbeiten alle zusammen. Bei unserem Fest stellen alle Einrichtungen ihre Angebote vor und zeigen\, wie sie lebenslanges Lernen fördern und zur Agenda 2030 beitragen. \nEin Fest für Eltern\, Jugendliche\, Kinder und alle Menschen im Grätzl!
URL:https://www.kiga-miteinanderwachsen.at/termin/bildungsgraetzl-fest-gelbe-blaue-gruppe/
ATTACH;FMTTYPE=image/jpeg:https://www.kiga-miteinanderwachsen.at/wp-content/uploads/2025/03/bildungsgraetzel-fest.jpg
END:VEVENT
BEGIN:VEVENT
DTSTART;VALUE=DATE:20250521
DTEND;VALUE=DATE:20250522
DTSTAMP:20260420T135906
CREATED:20250310T102300Z
LAST-MODIFIED:20250310T102343Z
UID:724-1747785600-1747871999@www.kiga-miteinanderwachsen.at
SUMMARY:Familientag - gelbe Gruppe (mit Eltern)
DESCRIPTION:Familientag der gelben Gruppe – mit Eltern
URL:https://www.kiga-miteinanderwachsen.at/termin/familientag-gelbe-gruppe-mit-eltern/
ATTACH;FMTTYPE=image/jpeg:https://www.kiga-miteinanderwachsen.at/wp-content/uploads/2025/03/familientag-gelbe-gruppe.jpg
END:VEVENT
BEGIN:VEVENT
DTSTART;VALUE=DATE:20250520
DTEND;VALUE=DATE:20250521
DTSTAMP:20260420T135906
CREATED:20250310T102051Z
LAST-MODIFIED:20250310T102051Z
UID:721-1747699200-1747785599@www.kiga-miteinanderwachsen.at
SUMMARY:Familientag - Gruppe Blau (mit Eltern)
DESCRIPTION:Familientag der blauen Gruppe mit Eltern
URL:https://www.kiga-miteinanderwachsen.at/termin/familientag-gruppe-blau-mit-eltern/
ATTACH;FMTTYPE=image/jpeg:https://www.kiga-miteinanderwachsen.at/wp-content/uploads/2025/03/familientag-blau-gruppe.jpg
END:VEVENT
BEGIN:VEVENT
DTSTART;VALUE=DATE:20250519
DTEND;VALUE=DATE:20250520
DTSTAMP:20260420T135906
CREATED:20250310T101829Z
LAST-MODIFIED:20250310T101829Z
UID:718-1747612800-1747699199@www.kiga-miteinanderwachsen.at
SUMMARY:Familientag (Lila Gruppe & Grüne Gruppe) - mit Eltern
DESCRIPTION:mit Eltern
URL:https://www.kiga-miteinanderwachsen.at/termin/familientag-lila-gruppe-gruene-gruppe-mit-eltern/
ATTACH;FMTTYPE=image/jpeg:https://www.kiga-miteinanderwachsen.at/wp-content/uploads/2025/03/familientag.jpg
END:VEVENT
END:VCALENDAR