BEGIN:VCALENDAR
VERSION:2.0
PRODID:-//Kindergarten - miteinander  wachsen - ECPv6.15.18//NONSGML v1.0//EN
CALSCALE:GREGORIAN
METHOD:PUBLISH
X-ORIGINAL-URL:https://www.kiga-miteinanderwachsen.at
X-WR-CALDESC:Veranstaltungen für Kindergarten - miteinander  wachsen
REFRESH-INTERVAL;VALUE=DURATION:PT1H
X-Robots-Tag:noindex
X-PUBLISHED-TTL:PT1H
BEGIN:VTIMEZONE
TZID:Europe/Berlin
BEGIN:DAYLIGHT
TZOFFSETFROM:+0100
TZOFFSETTO:+0200
TZNAME:CEST
DTSTART:20240331T010000
END:DAYLIGHT
BEGIN:STANDARD
TZOFFSETFROM:+0200
TZOFFSETTO:+0100
TZNAME:CET
DTSTART:20241027T010000
END:STANDARD
BEGIN:DAYLIGHT
TZOFFSETFROM:+0100
TZOFFSETTO:+0200
TZNAME:CEST
DTSTART:20250330T010000
END:DAYLIGHT
BEGIN:STANDARD
TZOFFSETFROM:+0200
TZOFFSETTO:+0100
TZNAME:CET
DTSTART:20251026T010000
END:STANDARD
BEGIN:DAYLIGHT
TZOFFSETFROM:+0100
TZOFFSETTO:+0200
TZNAME:CEST
DTSTART:20260329T010000
END:DAYLIGHT
BEGIN:STANDARD
TZOFFSETFROM:+0200
TZOFFSETTO:+0100
TZNAME:CET
DTSTART:20261025T010000
END:STANDARD
END:VTIMEZONE
BEGIN:VEVENT
DTSTART;VALUE=DATE:20250404
DTEND;VALUE=DATE:20250405
DTSTAMP:20260424T220321
CREATED:20250305T160453Z
LAST-MODIFIED:20250306T103802Z
UID:696-1743724800-1743811199@www.kiga-miteinanderwachsen.at
SUMMARY:Zoom Kindermuseum - "Werkstatt" (blaue Gruppe)
DESCRIPTION:BLAUE GRUPPE\nBitte bringen Sie Ihr Kind an diesem Tag pünktlich um 8:00 Uhr in den Kindergarten! \nWichtige Hinweise:\n•Lassen Sie Ihr Kind an diesen Tagen bitte zuhause frühstücken\, da wir früh aufbrechen und keine Zeit zum Frühstücken im Kindergarten haben.\n•Für eine Jause oder ein Lunchpaket ist bei jedem Ausflug gesorgt!\n•Pünktlichkeit ist besonders wichtig\, da wir unsere Termine einhalten müssen.
URL:https://www.kiga-miteinanderwachsen.at/termin/zoom-kindermuseum-werkstatt/
ATTACH;FMTTYPE=image/jpeg:https://www.kiga-miteinanderwachsen.at/wp-content/uploads/2025/03/kinderzoommuseum.jpg
END:VEVENT
BEGIN:VEVENT
DTSTART;TZID=Europe/Berlin:20250409T090000
DTEND;TZID=Europe/Berlin:20250409T153000
DTSTAMP:20260424T220321
CREATED:20250310T121841Z
LAST-MODIFIED:20250310T121841Z
UID:762-1744189200-1744212600@www.kiga-miteinanderwachsen.at
SUMMARY:Ostermarkt "Hirschstetten" - Gelbe Gruppe
DESCRIPTION:Bitte bringen Sie Ihr Kind an diesem Tag pünktlich um 7:45 Uhr in den Kindergarten!\n\nWichtige Hinweise:\n•Lassen Sie Ihr Kind an diesen Tagen bitte zuhause frühstücken\, da wir früh aufbrechen und keine Zeit zum Frühstücken im Kindergarten haben.\n•Für eine Jause oder ein Lunchpaket ist bei jedem Ausflug gesorgt!\n•Pünktlichkeit ist besonders wichtig\, da wir unsere Termine einhalten müssen.
URL:https://www.kiga-miteinanderwachsen.at/termin/ostermarkt-hirschstetten-gelbe-gruppe/
ATTACH;FMTTYPE=image/jpeg:https://www.kiga-miteinanderwachsen.at/wp-content/uploads/2025/03/blumengarten-hirschstetten.jpg
END:VEVENT
BEGIN:VEVENT
DTSTART;VALUE=DATE:20250411
DTEND;VALUE=DATE:20250412
DTSTAMP:20260424T220321
CREATED:20250310T101522Z
LAST-MODIFIED:20250310T101522Z
UID:715-1744329600-1744415999@www.kiga-miteinanderwachsen.at
SUMMARY:Osterfest (ohne Eltern)
DESCRIPTION:
URL:https://www.kiga-miteinanderwachsen.at/termin/osterfest-ohne-eltern/
ATTACH;FMTTYPE=image/jpeg:https://www.kiga-miteinanderwachsen.at/wp-content/uploads/2025/03/osterfest.jpg
END:VEVENT
BEGIN:VEVENT
DTSTART;TZID=Europe/Berlin:20250414T080000
DTEND;TZID=Europe/Berlin:20250418T170000
DTSTAMP:20260424T220321
CREATED:20250310T102925Z
LAST-MODIFIED:20250310T102925Z
UID:733-1744617600-1744995600@www.kiga-miteinanderwachsen.at
SUMMARY:Osterferien\, Kindergarten OFFEN
DESCRIPTION:
URL:https://www.kiga-miteinanderwachsen.at/termin/osterferien-kindergarten-offen/
ATTACH;FMTTYPE=image/jpeg:https://www.kiga-miteinanderwachsen.at/wp-content/uploads/2025/03/osterferien.jpg
END:VEVENT
BEGIN:VEVENT
DTSTART;VALUE=DATE:20250421
DTEND;VALUE=DATE:20250422
DTSTAMP:20260424T220321
CREATED:20250310T103218Z
LAST-MODIFIED:20250310T103218Z
UID:736-1745193600-1745279999@www.kiga-miteinanderwachsen.at
SUMMARY:Ostermontag\, Kindergarten GESCHLOSSEN
DESCRIPTION:Wir haben an diesem Tag geschlossen.
URL:https://www.kiga-miteinanderwachsen.at/termin/ostermontag-kindergarten-geschlossen/
ATTACH;FMTTYPE=image/jpeg:https://www.kiga-miteinanderwachsen.at/wp-content/uploads/2025/03/closed.jpg
END:VEVENT
BEGIN:VEVENT
DTSTART;VALUE=DATE:20250425
DTEND;VALUE=DATE:20250426
DTSTAMP:20260424T220321
CREATED:20250305T153935Z
LAST-MODIFIED:20250306T104013Z
UID:684-1745539200-1745625599@www.kiga-miteinanderwachsen.at
SUMMARY:Naturhistorisches Museum - "Saurier" (gelbe Gruppe)
DESCRIPTION:GELBE GRUPPE\nBitte bringen Sie Ihr Kind an diesem Tag pünktlich um 7:45 Uhr in den Kindergarten! \nWichtige Hinweise:\n•Lassen Sie Ihr Kind an diesen Tagen bitte zuhause frühstücken\, da wir früh aufbrechen und keine Zeit zum Frühstücken im Kindergarten haben.\n•Für eine Jause oder ein Lunchpaket ist bei jedem Ausflug gesorgt!\n•Pünktlichkeit ist besonders wichtig\, da wir unsere Termine einhalten müssen.
URL:https://www.kiga-miteinanderwachsen.at/termin/naturhistorisches-museum-saurier/
ATTACH;FMTTYPE=image/jpeg:https://www.kiga-miteinanderwachsen.at/wp-content/uploads/2025/03/naturhistorischesmuseum.jpg
END:VEVENT
END:VCALENDAR