BEGIN:VCALENDAR
VERSION:2.0
PRODID:-//Kindergarten - miteinander  wachsen - ECPv6.15.18//NONSGML v1.0//EN
CALSCALE:GREGORIAN
METHOD:PUBLISH
X-ORIGINAL-URL:https://www.kiga-miteinanderwachsen.at
X-WR-CALDESC:Veranstaltungen für Kindergarten - miteinander  wachsen
REFRESH-INTERVAL;VALUE=DURATION:PT1H
X-Robots-Tag:noindex
X-PUBLISHED-TTL:PT1H
BEGIN:VTIMEZONE
TZID:Europe/Berlin
BEGIN:DAYLIGHT
TZOFFSETFROM:+0100
TZOFFSETTO:+0200
TZNAME:CEST
DTSTART:20240331T010000
END:DAYLIGHT
BEGIN:STANDARD
TZOFFSETFROM:+0200
TZOFFSETTO:+0100
TZNAME:CET
DTSTART:20241027T010000
END:STANDARD
BEGIN:DAYLIGHT
TZOFFSETFROM:+0100
TZOFFSETTO:+0200
TZNAME:CEST
DTSTART:20250330T010000
END:DAYLIGHT
BEGIN:STANDARD
TZOFFSETFROM:+0200
TZOFFSETTO:+0100
TZNAME:CET
DTSTART:20251026T010000
END:STANDARD
BEGIN:DAYLIGHT
TZOFFSETFROM:+0100
TZOFFSETTO:+0200
TZNAME:CEST
DTSTART:20260329T010000
END:DAYLIGHT
BEGIN:STANDARD
TZOFFSETFROM:+0200
TZOFFSETTO:+0100
TZNAME:CET
DTSTART:20261025T010000
END:STANDARD
BEGIN:DAYLIGHT
TZOFFSETFROM:+0100
TZOFFSETTO:+0200
TZNAME:CEST
DTSTART:20270328T010000
END:DAYLIGHT
BEGIN:STANDARD
TZOFFSETFROM:+0200
TZOFFSETTO:+0100
TZNAME:CET
DTSTART:20271031T010000
END:STANDARD
END:VTIMEZONE
BEGIN:VEVENT
DTSTART;TZID=Europe/Berlin:20251222T080000
DTEND;TZID=Europe/Berlin:20260106T170000
DTSTAMP:20260420T192104
CREATED:20251106T093805Z
LAST-MODIFIED:20251106T093805Z
UID:811-1766390400-1767718800@www.kiga-miteinanderwachsen.at
SUMMARY:Weihnachtsferien\, Kindergarten GESCHLOSSEN
DESCRIPTION:
URL:https://www.kiga-miteinanderwachsen.at/termin/weihnachtsferien-kindergarten-geschlossen/
ATTACH;FMTTYPE=image/jpeg:https://www.kiga-miteinanderwachsen.at/wp-content/uploads/2025/11/weihnachten2025.jpg
END:VEVENT
BEGIN:VEVENT
DTSTART;TZID=Europe/Berlin:20260122T080000
DTEND;TZID=Europe/Berlin:20260122T170000
DTSTAMP:20260420T192104
CREATED:20251106T102042Z
LAST-MODIFIED:20251106T102042Z
UID:871-1769068800-1769101200@www.kiga-miteinanderwachsen.at
SUMMARY:Theater Harlekin „Unser kunterbunter 200" - Bitte zuhause Frühstücken
DESCRIPTION:Bitte zuhause Frühstücken
URL:https://www.kiga-miteinanderwachsen.at/termin/theater-harlekin-unser-kunterbunter-200-bitte-zuhause-fruehstuecken/
ATTACH;FMTTYPE=image/jpeg:https://www.kiga-miteinanderwachsen.at/wp-content/uploads/2025/11/theater2026.jpg
END:VEVENT
END:VCALENDAR